BEGIN:VCALENDAR
VERSION:2.0
PRODID:-//Dromore Cathedral - ECPv5.0.3.1//NONSGML v1.0//EN
CALSCALE:GREGORIAN
METHOD:PUBLISH
X-WR-CALNAME:Dromore Cathedral
X-ORIGINAL-URL:https://www.dromorecathedral.org
X-WR-CALDESC:Events for Dromore Cathedral
BEGIN:VTIMEZONE
TZID:UTC
BEGIN:STANDARD
TZOFFSETFROM:+0000
TZOFFSETTO:+0000
TZNAME:UTC
DTSTART:20190101T000000
END:STANDARD
END:VTIMEZONE
BEGIN:VEVENT
DTSTART;VALUE=DATE:20190525
DTEND;VALUE=DATE:20190526
DTSTAMP:20260425T024216
CREATED:20190522T135257Z
LAST-MODIFIED:20190522T135257Z
UID:1644-1558742400-1558828799@www.dromorecathedral.org
SUMMARY:Mother's Union Outing
DESCRIPTION:This year we are visiting Hillsborough Castle and the spectacular new gardens and Visitor Centre. Tickets for entry to the Castle are limited\, so please contact Helen Forsythe (07812 824691) as soon as possible\, if you wish to join us. A deposit of £10 is required. We plan to leave Dromore at 10.15am\, meeting in the Cathedral car park and have tea/coffee before the tour and lunch afterwards. The total cost should be £20 and we would return home late afternoon. \n
URL:https://www.dromorecathedral.org/event/mothers-union-outing/
LOCATION:Cathedral Hall
CATEGORIES:Mothers' Union
END:VEVENT
END:VCALENDAR